BEGIN:VCALENDAR
VERSION:2.0
PRODID:-//Tukios.com/
BEGIN:VEVENT
UID:abdebbba-9c20-48b0-a6cd-8342b381fbb0@www.hallwynne.com
DTSTAMP:20260425T173250Z
DTSTART:20260501T170000Z
DTEND:20260501T180000Z
SUMMARY:Funeral Service
DESCRIPTION:
URL:https://www.hallwynne.com/obituaries/virginia-widmark
LOCATION:First Presbyterian Church  305 East Main Street  Durham NC 27701
GEO:35.9938698;-78.8977922
END:VEVENT
END:VCALENDAR