BEGIN:VCALENDAR
VERSION:2.0
PRODID:-//Tukios.com/
BEGIN:VEVENT
UID:771dad4c-53a6-47f8-98b3-8d8e1203e20f@www.hallwynne.com
DTSTAMP:20260423T171913Z
DTSTART:20260424T150000Z
DTEND:20260424T160000Z
SUMMARY:Memorial Service
DESCRIPTION:
URL:https://www.hallwynne.com/obituaries/nancy-miller
LOCATION: 1113 West Main Street  Durham NC 27701
GEO:36.0014753;-78.9122507
END:VEVENT
END:VCALENDAR