BEGIN:VCALENDAR
VERSION:2.0
PRODID:-//Tukios.com/
BEGIN:VEVENT
UID:4c2c1712-a980-4ae6-95b8-910692bca823@www.hallwynne.com
DTSTAMP:20260420T223850Z
DTSTART:20260423T150000Z
DTEND:20260423T160000Z
SUMMARY:Mass
DESCRIPTION:
URL:https://www.hallwynne.com/obituaries/marian-jenkins
LOCATION:Holy Infant Catholic Church 5000 Southpark Drive  Durham NC 
	27713
GEO:35.9132249;-78.9446017
END:VEVENT
END:VCALENDAR