BEGIN:VCALENDAR
VERSION:2.0
PRODID:-//Tukios.com/
BEGIN:VEVENT
UID:92e625c6-b289-49ef-a05a-b0995206712d@www.hallwynne.com
DTSTAMP:20260424T171534Z
DTSTART:20260427T170000Z
DTEND:20260427T180000Z
SUMMARY:Celebration of Life
DESCRIPTION:
URL:https://www.hallwynne.com/obituaries/kathie-ashkenes
LOCATION:Hall-Wynne Funeral Service 1113 West Main Street  Durham NC 
	27701
GEO:36.0014753;-78.9122507
END:VEVENT
END:VCALENDAR